BEGIN:VCALENDAR
VERSION:2.0
PRODID:-//Circo de Dinosaurios - ECPv6.15.20//NONSGML v1.0//EN
CALSCALE:GREGORIAN
METHOD:PUBLISH
X-WR-CALNAME:Circo de Dinosaurios
X-ORIGINAL-URL:https://circodedinosaurioschile.cl
X-WR-CALDESC:Eventos para Circo de Dinosaurios
REFRESH-INTERVAL;VALUE=DURATION:PT1H
X-Robots-Tag:noindex
X-PUBLISHED-TTL:PT1H
BEGIN:VTIMEZONE
TZID:America/Santiago
BEGIN:STANDARD
TZOFFSETFROM:-0300
TZOFFSETTO:-0400
TZNAME:-04
DTSTART:20250406T030000
END:STANDARD
BEGIN:DAYLIGHT
TZOFFSETFROM:-0400
TZOFFSETTO:-0300
TZNAME:-03
DTSTART:20250907T040000
END:DAYLIGHT
BEGIN:STANDARD
TZOFFSETFROM:-0300
TZOFFSETTO:-0400
TZNAME:-04
DTSTART:20260405T030000
END:STANDARD
BEGIN:DAYLIGHT
TZOFFSETFROM:-0400
TZOFFSETTO:-0300
TZNAME:-03
DTSTART:20260906T040000
END:DAYLIGHT
BEGIN:STANDARD
TZOFFSETFROM:-0300
TZOFFSETTO:-0400
TZNAME:-04
DTSTART:20270404T030000
END:STANDARD
BEGIN:DAYLIGHT
TZOFFSETFROM:-0400
TZOFFSETTO:-0300
TZNAME:-03
DTSTART:20270905T040000
END:DAYLIGHT
END:VTIMEZONE
BEGIN:VEVENT
DTSTART;TZID=America/Santiago:20260423T193000
DTEND;TZID=America/Santiago:20260423T213000
DTSTAMP:20260423T065332
CREATED:20260415T214152Z
LAST-MODIFIED:20260415T214527Z
UID:10000116-1776972600-1776979800@circodedinosaurioschile.cl
SUMMARY:Función 20:30h 23/4 – Pitrufquén
DESCRIPTION:Estamos en la Estacion EFE
URL:https://circodedinosaurioschile.cl/event/funcion-2030h-23-4-pitrufquen/
CATEGORIES:Pitrufquén
ATTACH;FMTTYPE=image/webp:https://circodedinosaurioschile.cl/wp-content/uploads/2025/11/escenario-circo-_1_-600x600.webp
END:VEVENT
END:VCALENDAR